BEGIN:VCALENDAR
VERSION:2.0
PRODID:-//Library Market//iCal Export//EN
BEGIN:VEVENT
SUMMARY:Crafting with Kayte
UID:1451
DTSTAMP:20260421T083700Z
DTSTART:20260521T230000Z
DTEND:20260522T023000Z
LOCATION:Karl Junginger Memorial Library, 625 N Monroe St, Waterloo, WI 53
 594, United States
ROOM: Junginger Community Room
DESCRIPTION:Getting those gardens ready?! Join us for a fun craft night o
 f creating decorative plant stakes for indoors or outdoors! All supplies p
 rovided, this program is free to attend. Sponsored by the Friends of KJM L
 ibrary. Registration required. 
URL:https://karljunginger.librarycalendar.com/event/crafting-kayte-1451
END:VEVENT
END:VCALENDAR
